BEGIN:VCALENDAR
PRODID:-//Hannon Hill Events//Cascade CMS//EN
VERSION:2.0
X-WR-CALNAME:Apply for Spring 2026 Graduation
X-WR-TIMEZONE:America/New_York
BEGIN:VTIMEZONE
TZID:America/New_York
BEGIN:DAYLIGHT
TZOFFSETFROM:-0500
TZOFFSETTO:-0400
TZNAME:EDT
DTSTART:19700308T020000
RRULE:FREQ=YEARLY;BYMONTH=3;BYDAY=2SU
END:DAYLIGHT
BEGIN:STANDARD
TZOFFSETFROM:-0400
TZOFFSETTO:-0500
TZNAME:EST
DTSTART:19701101T020000
RRULE:FREQ=YEARLY;BYMONTH=11;BYDAY=1SU
END:STANDARD
END:VTIMEZONE
BEGIN:VEVENT
DTSTART:20260313T000000
DTEND:20260313T000000
DTSTAMP:20260423T013050
UID:d2cad7e90a00008c6520229d57a19826
CREATED:20260309T093034
DESCRIPTION:Ensure a smooth graduation process for Spring 2026 by applying
  through the Self-Service portal before the March 13 deadline.
LAST-MODIFIED:20260309T093527
SEQUENCE:0
STATUS:CONFIRMED
SUMMARY:Apply for Spring 2026 Graduation
TRANSP:OPAQUE
END:VEVENT
END:VCALENDAR
