BEGIN:VCALENDAR
PRODID:-//Hannon Hill Events//Cascade CMS//EN
VERSION:2.0
X-WR-CALNAME:Grad School 101:  What It is\, Why It Matters &amp\; How to P
 repare Now
X-WR-TIMEZONE:America/New_York
BEGIN:VTIMEZONE
TZID:America/New_York
BEGIN:DAYLIGHT
TZOFFSETFROM:-0500
TZOFFSETTO:-0400
TZNAME:EDT
DTSTART:19700308T020000
RRULE:FREQ=YEARLY;BYMONTH=3;BYDAY=2SU
END:DAYLIGHT
BEGIN:STANDARD
TZOFFSETFROM:-0400
TZOFFSETTO:-0500
TZNAME:EST
DTSTART:19701101T020000
RRULE:FREQ=YEARLY;BYMONTH=11;BYDAY=1SU
END:STANDARD
END:VTIMEZONE
BEGIN:VEVENT
DTSTART:20260331T140000
DTEND:20260331T150000
DTSTAMP:20260423T013048
UID:e280187d0a00008c3c43e14883ac5c68
CREATED:20260312T104251
DESCRIPTION:Thinking about graduate school\, but not sure where to begin? 
 We&#8217\;ve got you covered!
LAST-MODIFIED:20260326T113953
SEQUENCE:0
STATUS:CONFIRMED
SUMMARY:Grad School 101:  What It is\, Why It Matters &amp\; How to Prepar
 e Now
TRANSP:OPAQUE
END:VEVENT
END:VCALENDAR
