BEGIN:VCALENDAR
PRODID:-//Hannon Hill Events//Cascade CMS//EN
VERSION:2.0
X-WR-CALNAME:Doctoral Defense: Cassandra Adams
X-WR-TIMEZONE:America/New_York
BEGIN:VTIMEZONE
TZID:America/New_York
BEGIN:DAYLIGHT
TZOFFSETFROM:-0500
TZOFFSETTO:-0400
TZNAME:EDT
DTSTART:19700308T020000
RRULE:FREQ=YEARLY;BYMONTH=3;BYDAY=2SU
END:DAYLIGHT
BEGIN:STANDARD
TZOFFSETFROM:-0400
TZOFFSETTO:-0500
TZNAME:EST
DTSTART:19701101T020000
RRULE:FREQ=YEARLY;BYMONTH=11;BYDAY=1SU
END:STANDARD
END:VTIMEZONE
BEGIN:VEVENT
DTSTART:20260323T130000
DTEND:20260323T120000
DTSTAMP:20260423T013047
UID:e2c7d45b0a00008c3c43e148121e5db6
CREATED:20260312T120112
DESCRIPTION:Join Morehead State University for Cassandra Adams&apos\; virt
 ual doctoral defense on March 23\, 2026\, discussing student voice practic
 es in Kentucky schools.
LAST-MODIFIED:20260312T120412
SEQUENCE:0
STATUS:CONFIRMED
SUMMARY:Doctoral Defense: Cassandra Adams
TRANSP:OPAQUE
END:VEVENT
END:VCALENDAR
