BEGIN:VCALENDAR
PRODID:-//Hannon Hill Events//Cascade CMS//EN
VERSION:2.0
X-WR-CALNAME:Doctoral Defense: Judy Howell
X-WR-TIMEZONE:America/New_York
BEGIN:VTIMEZONE
TZID:America/New_York
BEGIN:DAYLIGHT
TZOFFSETFROM:-0500
TZOFFSETTO:-0400
TZNAME:EDT
DTSTART:19700308T020000
RRULE:FREQ=YEARLY;BYMONTH=3;BYDAY=2SU
END:DAYLIGHT
BEGIN:STANDARD
TZOFFSETFROM:-0400
TZOFFSETTO:-0500
TZNAME:EST
DTSTART:19701101T020000
RRULE:FREQ=YEARLY;BYMONTH=11;BYDAY=1SU
END:STANDARD
END:VTIMEZONE
BEGIN:VEVENT
DTSTART:20260320T090000
DTEND:20260320T110000
DTSTAMP:20260423T013038
UID:dcf7d1980a00008c6520229dcaef23c2
CREATED:20260311T085554
DESCRIPTION:Join Judy Howell&apos\;s doctoral defense at Morehead State Un
 iversity on March 20\, 2026\, exploring quality assurance in online educat
 ion.
LAST-MODIFIED:20260312T120529
SEQUENCE:0
STATUS:CONFIRMED
SUMMARY:Doctoral Defense: Judy Howell
TRANSP:OPAQUE
END:VEVENT
END:VCALENDAR
