BEGIN:VCALENDAR
PRODID:-//Hannon Hill Events//Cascade CMS//EN
VERSION:2.0
X-WR-CALNAME:Doctoral Defense: Lisa Rudzinski
X-WR-TIMEZONE:America/New_York
BEGIN:VTIMEZONE
TZID:America/New_York
BEGIN:DAYLIGHT
TZOFFSETFROM:-0500
TZOFFSETTO:-0400
TZNAME:EDT
DTSTART:19700308T020000
RRULE:FREQ=YEARLY;BYMONTH=3;BYDAY=2SU
END:DAYLIGHT
BEGIN:STANDARD
TZOFFSETFROM:-0400
TZOFFSETTO:-0500
TZNAME:EST
DTSTART:19701101T020000
RRULE:FREQ=YEARLY;BYMONTH=11;BYDAY=1SU
END:STANDARD
END:VTIMEZONE
BEGIN:VEVENT
DTSTART:20260324T150000
DTEND:20260324T180000
DTSTAMP:20260423T013056
UID:e2b8ad5a0a00008c3c43e14801889443
CREATED:20260312T114439
DESCRIPTION:Join Lisa Rudzinski for her doctoral defense on March 24\, 202
 6\, as she presents her research on supporting CTE teachers.
LAST-MODIFIED:20260312T120613
SEQUENCE:0
STATUS:CONFIRMED
SUMMARY:Doctoral Defense: Lisa Rudzinski
TRANSP:OPAQUE
END:VEVENT
END:VCALENDAR
