BEGIN:VCALENDAR
PRODID:-//Hannon Hill Events//Cascade CMS//EN
VERSION:2.0
X-WR-CALNAME:Doctoral Defense: Jenna Walton
X-WR-TIMEZONE:America/New_York
BEGIN:VTIMEZONE
TZID:America/New_York
BEGIN:DAYLIGHT
TZOFFSETFROM:-0500
TZOFFSETTO:-0400
TZNAME:EDT
DTSTART:19700308T020000
RRULE:FREQ=YEARLY;BYMONTH=3;BYDAY=2SU
END:DAYLIGHT
BEGIN:STANDARD
TZOFFSETFROM:-0400
TZOFFSETTO:-0500
TZNAME:EST
DTSTART:19701101T020000
RRULE:FREQ=YEARLY;BYMONTH=11;BYDAY=1SU
END:STANDARD
END:VTIMEZONE
BEGIN:VEVENT
DTSTART:20260323T100000
DTEND:20260323T120000
DTSTAMP:20260423T013050
UID:d8b2cd2f0a00008c6520229d5eacbac2
CREATED:20260310T130202
DESCRIPTION:Join Jenna Walton&apos\;s doctoral defense on March 23\, 2026\
 , discussing language development in military-affiliated children.
LAST-MODIFIED:20260312T120645
SEQUENCE:0
STATUS:CONFIRMED
SUMMARY:Doctoral Defense: Jenna Walton
TRANSP:OPAQUE
END:VEVENT
END:VCALENDAR
