BEGIN:VCALENDAR
PRODID:-//Hannon Hill Events//Cascade CMS//EN
VERSION:2.0
X-WR-CALNAME:MSU Ceramics Guild Spring Pottery Sale
X-WR-TIMEZONE:America/New_York
BEGIN:VTIMEZONE
TZID:America/New_York
BEGIN:DAYLIGHT
TZOFFSETFROM:-0500
TZOFFSETTO:-0400
TZNAME:EDT
DTSTART:19700308T020000
RRULE:FREQ=YEARLY;BYMONTH=3;BYDAY=2SU
END:DAYLIGHT
BEGIN:STANDARD
TZOFFSETFROM:-0400
TZOFFSETTO:-0500
TZNAME:EST
DTSTART:19701101T020000
RRULE:FREQ=YEARLY;BYMONTH=11;BYDAY=1SU
END:STANDARD
END:VTIMEZONE
BEGIN:VEVENT
DTSTART:20250427T000000
DTEND:20250428T000000
DTSTAMP:20260424T013143
UID:bbfdb1970a00008c16baaeeccaa93122
CREATED:20260423T161738
DESCRIPTION:Join the MSU Ceramics Guild for their Spring Pottery Sale on A
 pril 27-28\, featuring unique handcrafted ceramics to support student trav
 el.
LAST-MODIFIED:20260423T162210
SEQUENCE:0
STATUS:CONFIRMED
SUMMARY:MSU Ceramics Guild Spring Pottery Sale
TRANSP:OPAQUE
END:VEVENT
END:VCALENDAR
