BEGIN:VCALENDAR
PRODID:-//Hannon Hill Events//Cascade CMS//EN
VERSION:2.0
X-WR-CALNAME:Caudill College Honors &amp\; Awards Convocation
X-WR-TIMEZONE:America/New_York
BEGIN:VTIMEZONE
TZID:America/New_York
BEGIN:DAYLIGHT
TZOFFSETFROM:-0500
TZOFFSETTO:-0400
TZNAME:EDT
DTSTART:19700308T020000
RRULE:FREQ=YEARLY;BYMONTH=3;BYDAY=2SU
END:DAYLIGHT
BEGIN:STANDARD
TZOFFSETFROM:-0400
TZOFFSETTO:-0500
TZNAME:EST
DTSTART:19701101T020000
RRULE:FREQ=YEARLY;BYMONTH=11;BYDAY=1SU
END:STANDARD
END:VTIMEZONE
BEGIN:VEVENT
DTSTART:20260428T160000
DTEND:20260428T180000
DTSTAMP:20260422T013116
UID:49bbd64b0a00008c343f78df4b017a1b
CREATED:20260401T114900
DESCRIPTION:Join us for the Caudill College Honors &amp\; Awards Convocati
 on on April 28\, celebrating student and faculty achievements.
LAST-MODIFIED:20260401T115313
SEQUENCE:0
STATUS:CONFIRMED
SUMMARY:Caudill College Honors &amp\; Awards Convocation
TRANSP:OPAQUE
END:VEVENT
END:VCALENDAR
