BEGIN:VCALENDAR
PRODID:-//Hannon Hill Events//Cascade CMS//EN
VERSION:2.0
X-WR-CALNAME:Film Screening: Oscillate Is Dead
X-WR-TIMEZONE:America/New_York
BEGIN:VTIMEZONE
TZID:America/New_York
BEGIN:DAYLIGHT
TZOFFSETFROM:-0500
TZOFFSETTO:-0400
TZNAME:EDT
DTSTART:19700308T020000
RRULE:FREQ=YEARLY;BYMONTH=3;BYDAY=2SU
END:DAYLIGHT
BEGIN:STANDARD
TZOFFSETFROM:-0400
TZOFFSETTO:-0500
TZNAME:EST
DTSTART:19701101T020000
RRULE:FREQ=YEARLY;BYMONTH=11;BYDAY=1SU
END:STANDARD
END:VTIMEZONE
BEGIN:VEVENT
DTSTART:20260414T183000
DTEND:20260414T203000
DTSTAMP:20260421T013117
UID:4412084a0a00008c343f78df72700e06
CREATED:20260331T092525
DESCRIPTION:Join us at Morehead State University for a free screening of &
 quot\;Oscillate Is Dead&quot\; on April 14\, 2026\, with a Q&amp\;A sessio
 n with the filmmaker.
LAST-MODIFIED:20260331T092947
SEQUENCE:0
STATUS:CONFIRMED
SUMMARY:Film Screening: Oscillate Is Dead
TRANSP:OPAQUE
END:VEVENT
END:VCALENDAR
