BEGIN:VCALENDAR
PRODID:-//Hannon Hill Events//Cascade CMS//EN
VERSION:2.0
X-WR-CALNAME:Doctoral Defense: Adam Blair
X-WR-TIMEZONE:America/New_York
BEGIN:VTIMEZONE
TZID:America/New_York
BEGIN:DAYLIGHT
TZOFFSETFROM:-0500
TZOFFSETTO:-0400
TZNAME:EDT
DTSTART:19700308T020000
RRULE:FREQ=YEARLY;BYMONTH=3;BYDAY=2SU
END:DAYLIGHT
BEGIN:STANDARD
TZOFFSETFROM:-0400
TZOFFSETTO:-0500
TZNAME:EST
DTSTART:19701101T020000
RRULE:FREQ=YEARLY;BYMONTH=11;BYDAY=1SU
END:STANDARD
END:VTIMEZONE
BEGIN:VEVENT
DTSTART:20260406T130000
DTEND:20260406T153000
DTSTAMP:20260422T013130
UID:499c0d920a00008c343f78df9dba1873
CREATED:20260401T111417
DESCRIPTION:Join the virtual doctoral defense of Adam Blair at Morehead St
 ate University on April 6\, 2026\, focusing on strategies for student succ
 ess in community colleges.
LAST-MODIFIED:20260401T111729
SEQUENCE:0
STATUS:CONFIRMED
SUMMARY:Doctoral Defense: Adam Blair
TRANSP:OPAQUE
END:VEVENT
END:VCALENDAR
