BEGIN:VCALENDAR
PRODID:-//Hannon Hill Events//Cascade CMS//EN
VERSION:2.0
X-WR-CALNAME:Doctoral Defense: Myram Chapman-Brady
X-WR-TIMEZONE:America/New_York
BEGIN:VTIMEZONE
TZID:America/New_York
BEGIN:DAYLIGHT
TZOFFSETFROM:-0500
TZOFFSETTO:-0400
TZNAME:EDT
DTSTART:19700308T020000
RRULE:FREQ=YEARLY;BYMONTH=3;BYDAY=2SU
END:DAYLIGHT
BEGIN:STANDARD
TZOFFSETFROM:-0400
TZOFFSETTO:-0500
TZNAME:EST
DTSTART:19701101T020000
RRULE:FREQ=YEARLY;BYMONTH=11;BYDAY=1SU
END:STANDARD
END:VTIMEZONE
BEGIN:VEVENT
DTSTART:20260409T123000
DTEND:20260409T143000
DTSTAMP:20260422T013132
UID:494a70ec0a00008c343f78df0a92ac1e
CREATED:20260401T094508
DESCRIPTION:Join the virtual doctoral defense of Myram Chapman-Brady at Mo
 rehead State University on April 9\, 2026\, discussing teacher retention i
 n high-needs schools.
LAST-MODIFIED:20260401T094745
SEQUENCE:0
STATUS:CONFIRMED
SUMMARY:Doctoral Defense: Myram Chapman-Brady
TRANSP:OPAQUE
END:VEVENT
END:VCALENDAR
