BEGIN:VCALENDAR
PRODID:-//Hannon Hill Events//Cascade CMS//EN
VERSION:2.0
X-WR-CALNAME:Doctoral Defense: Patrick Gonzalez
X-WR-TIMEZONE:America/New_York
BEGIN:VTIMEZONE
TZID:America/New_York
BEGIN:DAYLIGHT
TZOFFSETFROM:-0500
TZOFFSETTO:-0400
TZNAME:EDT
DTSTART:19700308T020000
RRULE:FREQ=YEARLY;BYMONTH=3;BYDAY=2SU
END:DAYLIGHT
BEGIN:STANDARD
TZOFFSETFROM:-0400
TZOFFSETTO:-0500
TZNAME:EST
DTSTART:19701101T020000
RRULE:FREQ=YEARLY;BYMONTH=11;BYDAY=1SU
END:STANDARD
END:VTIMEZONE
BEGIN:VEVENT
DTSTART:20260408T140000
DTEND:20260408T160000
DTSTAMP:20260420T013135
UID:40081f250a00008c343f78df246ae4fd
CREATED:20260330T143607
DESCRIPTION:Patrick Gonzalez&apos\;s doctoral defense on April 8\, 2026\, 
 will discuss AI-assisted cybersecurity curriculum development via Webex.
LAST-MODIFIED:20260330T143931
SEQUENCE:0
STATUS:CONFIRMED
SUMMARY:Doctoral Defense: Patrick Gonzalez
TRANSP:OPAQUE
END:VEVENT
END:VCALENDAR
