BEGIN:VCALENDAR
PRODID:-//Hannon Hill Events//Cascade CMS//EN
VERSION:2.0
X-WR-CALNAME:Doctoral Defense: Melinda Walker
X-WR-TIMEZONE:America/New_York
BEGIN:VTIMEZONE
TZID:America/New_York
BEGIN:DAYLIGHT
TZOFFSETFROM:-0500
TZOFFSETTO:-0400
TZNAME:EDT
DTSTART:19700308T020000
RRULE:FREQ=YEARLY;BYMONTH=3;BYDAY=2SU
END:DAYLIGHT
BEGIN:STANDARD
TZOFFSETFROM:-0400
TZOFFSETTO:-0500
TZNAME:EST
DTSTART:19701101T020000
RRULE:FREQ=YEARLY;BYMONTH=11;BYDAY=1SU
END:STANDARD
END:VTIMEZONE
BEGIN:VEVENT
DTSTART:20260408T130000
DTEND:20260408T153000
DTSTAMP:20260422T013122
UID:49b284430a00008c343f78df2e743a80
CREATED:20260401T113849
DESCRIPTION:Join Morehead State University for Melinda Walker&apos\;s doct
 oral defense on April 8\, 2026\, focusing on social isolation&apos\;s impa
 ct on learning preferences.
LAST-MODIFIED:20260401T114116
SEQUENCE:0
STATUS:CONFIRMED
SUMMARY:Doctoral Defense: Melinda Walker
TRANSP:OPAQUE
END:VEVENT
END:VCALENDAR
