BEGIN:VCALENDAR
PRODID:-//Hannon Hill Events//Cascade CMS//EN
VERSION:2.0
X-WR-CALNAME:Employee Appreciation Luncheon
X-WR-TIMEZONE:America/New_York
BEGIN:VTIMEZONE
TZID:America/New_York
BEGIN:DAYLIGHT
TZOFFSETFROM:-0500
TZOFFSETTO:-0400
TZNAME:EDT
DTSTART:19700308T020000
RRULE:FREQ=YEARLY;BYMONTH=3;BYDAY=2SU
END:DAYLIGHT
BEGIN:STANDARD
TZOFFSETFROM:-0400
TZOFFSETTO:-0500
TZNAME:EST
DTSTART:19701101T020000
RRULE:FREQ=YEARLY;BYMONTH=11;BYDAY=1SU
END:STANDARD
END:VTIMEZONE
BEGIN:VEVENT
DTSTART:20260422T110000
DTEND:20260422T130000
DTSTAMP:20260424T013123
UID:403816820a00008c343f78dfcce721f8
CREATED:20260330T152830
DESCRIPTION:Join us for an Employee Appreciation Luncheon at Morehead Stat
 e University on April 22\, celebrating faculty and staff with food and cam
 araderie.
LAST-MODIFIED:20260330T154513
SEQUENCE:0
STATUS:CONFIRMED
SUMMARY:Employee Appreciation Luncheon
TRANSP:OPAQUE
END:VEVENT
END:VCALENDAR
