BEGIN:VCALENDAR
PRODID:-//Hannon Hill Events//Cascade CMS//EN
VERSION:2.0
X-WR-CALNAME:KBC Blood Drive
X-WR-TIMEZONE:America/New_York
BEGIN:VTIMEZONE
TZID:America/New_York
BEGIN:DAYLIGHT
TZOFFSETFROM:-0500
TZOFFSETTO:-0400
TZNAME:EDT
DTSTART:19700308T020000
RRULE:FREQ=YEARLY;BYMONTH=3;BYDAY=2SU
END:DAYLIGHT
BEGIN:STANDARD
TZOFFSETFROM:-0400
TZOFFSETTO:-0500
TZNAME:EST
DTSTART:19701101T020000
RRULE:FREQ=YEARLY;BYMONTH=11;BYDAY=1SU
END:STANDARD
END:VTIMEZONE
BEGIN:VEVENT
DTSTART:20260414T000000
DTEND:20260415T000000
DTSTAMP:20260421T013138
UID:44f0afec0a00008c343f78dfe49fecf9
CREATED:20260331T132837
DESCRIPTION:Join the Spring Blood Drive at MSU on April 14-15! Donate bloo
 d\, earn wellness points\, and receive a Starbucks gift card. Help save li
 ves today!
LAST-MODIFIED:20260331T133039
SEQUENCE:0
STATUS:CONFIRMED
SUMMARY:KBC Blood Drive
TRANSP:OPAQUE
END:VEVENT
END:VCALENDAR
