BEGIN:VCALENDAR
PRODID:-//Hannon Hill Events//Cascade CMS//EN
VERSION:2.0
X-WR-CALNAME:KCTM Movie Night
X-WR-TIMEZONE:America/New_York
BEGIN:VTIMEZONE
TZID:America/New_York
BEGIN:DAYLIGHT
TZOFFSETFROM:-0500
TZOFFSETTO:-0400
TZNAME:EDT
DTSTART:19700308T020000
RRULE:FREQ=YEARLY;BYMONTH=3;BYDAY=2SU
END:DAYLIGHT
BEGIN:STANDARD
TZOFFSETFROM:-0400
TZOFFSETTO:-0500
TZNAME:EST
DTSTART:19701101T020000
RRULE:FREQ=YEARLY;BYMONTH=11;BYDAY=1SU
END:STANDARD
END:VTIMEZONE
BEGIN:VEVENT
DTSTART:20260401T180000
DTEND:20260401T200000
DTSTAMP:20260420T013124
UID:3f27e2850a00008c343f78dfbb477f4c
CREATED:20260330T103111
DESCRIPTION:Join us for a free Movie Night at the KCTM featuring &quot\;Bi
 g Family: The Story of Bluegrass Music&quot\; on April 1st!
LAST-MODIFIED:20260330T103436
SEQUENCE:0
STATUS:CONFIRMED
SUMMARY:KCTM Movie Night
TRANSP:OPAQUE
END:VEVENT
END:VCALENDAR
