BEGIN:VCALENDAR
PRODID:-//Hannon Hill Events//Cascade CMS//EN
VERSION:2.0
X-WR-CALNAME:Music of the Mountains: Closing Reception
X-WR-TIMEZONE:America/New_York
BEGIN:VTIMEZONE
TZID:America/New_York
BEGIN:DAYLIGHT
TZOFFSETFROM:-0500
TZOFFSETTO:-0400
TZNAME:EDT
DTSTART:19700308T020000
RRULE:FREQ=YEARLY;BYMONTH=3;BYDAY=2SU
END:DAYLIGHT
BEGIN:STANDARD
TZOFFSETFROM:-0400
TZOFFSETTO:-0500
TZNAME:EST
DTSTART:19701101T020000
RRULE:FREQ=YEARLY;BYMONTH=11;BYDAY=1SU
END:STANDARD
END:VTIMEZONE
BEGIN:VEVENT
DTSTART:20260402T170000
DTEND:20260402T190000
DTSTAMP:20260422T013124
UID:3fd20f740a00008c343f78dfdc7aaf15
CREATED:20260330T133704
DESCRIPTION:Join us for the closing reception of &quot\;Music of the Mount
 ains&quot\; at the Kentucky Folk Art Center on April 2\, showcasing John F
 lavell&apos\;s captivating photography.
LAST-MODIFIED:20260330T133944
SEQUENCE:0
STATUS:CONFIRMED
SUMMARY:Music of the Mountains: Closing Reception
TRANSP:OPAQUE
END:VEVENT
END:VCALENDAR
