BEGIN:VCALENDAR
PRODID:-//Hannon Hill Events//Cascade CMS//EN
VERSION:2.0
X-WR-CALNAME:Light Pollution Outreach Event
X-WR-TIMEZONE:America/New_York
BEGIN:VTIMEZONE
TZID:America/New_York
BEGIN:DAYLIGHT
TZOFFSETFROM:-0500
TZOFFSETTO:-0400
TZNAME:EDT
DTSTART:19700308T020000
RRULE:FREQ=YEARLY;BYMONTH=3;BYDAY=2SU
END:DAYLIGHT
BEGIN:STANDARD
TZOFFSETFROM:-0400
TZOFFSETTO:-0500
TZNAME:EST
DTSTART:19701101T020000
RRULE:FREQ=YEARLY;BYMONTH=11;BYDAY=1SU
END:STANDARD
END:VTIMEZONE
BEGIN:VEVENT
DTSTART:20260417T180000
DTEND:20260417T200000
DTSTAMP:20260422T013134
UID:49c4ef2f0a00008c343f78dfad004f35
CREATED:20260401T115856
DESCRIPTION:Join Morehead State University for a free hands-on event on li
 ght pollution education at Rowan County Public Library on April 17\, 2026.
LAST-MODIFIED:20260401T120443
SEQUENCE:0
STATUS:CONFIRMED
SUMMARY:Light Pollution Outreach Event
TRANSP:OPAQUE
END:VEVENT
END:VCALENDAR
