BEGIN:VCALENDAR
PRODID:-//Hannon Hill Events//Cascade CMS//EN
VERSION:2.0
X-WR-CALNAME:Film Screening &amp\; Discussion: One Battle After Another
X-WR-TIMEZONE:America/New_York
BEGIN:VTIMEZONE
TZID:America/New_York
BEGIN:DAYLIGHT
TZOFFSETFROM:-0500
TZOFFSETTO:-0400
TZNAME:EDT
DTSTART:19700308T020000
RRULE:FREQ=YEARLY;BYMONTH=3;BYDAY=2SU
END:DAYLIGHT
BEGIN:STANDARD
TZOFFSETFROM:-0400
TZOFFSETTO:-0500
TZNAME:EST
DTSTART:19701101T020000
RRULE:FREQ=YEARLY;BYMONTH=11;BYDAY=1SU
END:STANDARD
END:VTIMEZONE
BEGIN:VEVENT
DTSTART:20260407T170000
DTEND:20260407T210000
DTSTAMP:20260423T013117
UID:d2d8c7ea0a00008c6520229d855d2c9d
CREATED:20260309T094548
DESCRIPTION:Join Morehead State University on April 7 for a screening of &
 quot\;One Battle After Another\,&quot\; followed by a discussion with Prof
 essor Prusik and Dr. Barton.
LAST-MODIFIED:20260309T110019
SEQUENCE:0
STATUS:CONFIRMED
SUMMARY:Film Screening &amp\; Discussion: One Battle After Another
TRANSP:OPAQUE
END:VEVENT
END:VCALENDAR
