BEGIN:VCALENDAR
PRODID:-//Hannon Hill Events//Cascade CMS//EN
VERSION:2.0
X-WR-CALNAME:SGA Student Choice Awards 2026
X-WR-TIMEZONE:America/New_York
BEGIN:VTIMEZONE
TZID:America/New_York
BEGIN:DAYLIGHT
TZOFFSETFROM:-0500
TZOFFSETTO:-0400
TZNAME:EDT
DTSTART:19700308T020000
RRULE:FREQ=YEARLY;BYMONTH=3;BYDAY=2SU
END:DAYLIGHT
BEGIN:STANDARD
TZOFFSETFROM:-0400
TZOFFSETTO:-0500
TZNAME:EST
DTSTART:19701101T020000
RRULE:FREQ=YEARLY;BYMONTH=11;BYDAY=1SU
END:STANDARD
END:VTIMEZONE
BEGIN:VEVENT
DTSTART:20260422T183000
DTEND:20260422T203000
DTSTAMP:20260422T013115
UID:40720ca50a00008c343f78df2f397b23
CREATED:20260330T163149
DESCRIPTION:Join Morehead State University&apos\;s Student Government Asso
 ciation for the 2026 Student Choice Awards\, celebrating impactful student
  achievements on April 22.
LAST-MODIFIED:20260330T164216
SEQUENCE:0
STATUS:CONFIRMED
SUMMARY:SGA Student Choice Awards 2026
TRANSP:OPAQUE
END:VEVENT
END:VCALENDAR
