BEGIN:VCALENDAR
PRODID:-//Hannon Hill Events//Cascade CMS//EN
VERSION:2.0
X-WR-CALNAME:Spirits Industry Seminar
X-WR-TIMEZONE:America/New_York
BEGIN:VTIMEZONE
TZID:America/New_York
BEGIN:DAYLIGHT
TZOFFSETFROM:-0500
TZOFFSETTO:-0400
TZNAME:EDT
DTSTART:19700308T020000
RRULE:FREQ=YEARLY;BYMONTH=3;BYDAY=2SU
END:DAYLIGHT
BEGIN:STANDARD
TZOFFSETFROM:-0400
TZOFFSETTO:-0500
TZNAME:EST
DTSTART:19701101T020000
RRULE:FREQ=YEARLY;BYMONTH=11;BYDAY=1SU
END:STANDARD
END:VTIMEZONE
BEGIN:VEVENT
DTSTART:20260408T170000
DTEND:20260408T193000
DTSTAMP:20260421T013129
UID:4400e24a0a00008c343f78df02babf85
CREATED:20260331T090641
DESCRIPTION:Join the Morehead State University Chemistry Club seminar on A
 pril 8 to explore research and career opportunities in Kentucky&apos\;s sp
 irits industry.
LAST-MODIFIED:20260407T081247
SEQUENCE:0
STATUS:CONFIRMED
SUMMARY:Spirits Industry Seminar
TRANSP:OPAQUE
END:VEVENT
END:VCALENDAR
