BEGIN:VCALENDAR
PRODID:-//Hannon Hill Events//Cascade CMS//EN
VERSION:2.0
X-WR-CALNAME:Spring Fling
X-WR-TIMEZONE:America/New_York
BEGIN:VTIMEZONE
TZID:America/New_York
BEGIN:DAYLIGHT
TZOFFSETFROM:-0500
TZOFFSETTO:-0400
TZNAME:EDT
DTSTART:19700308T020000
RRULE:FREQ=YEARLY;BYMONTH=3;BYDAY=2SU
END:DAYLIGHT
BEGIN:STANDARD
TZOFFSETFROM:-0400
TZOFFSETTO:-0500
TZNAME:EST
DTSTART:19701101T020000
RRULE:FREQ=YEARLY;BYMONTH=11;BYDAY=1SU
END:STANDARD
END:VTIMEZONE
BEGIN:VEVENT
DTSTART:20260430T180000
DTEND:20260430T210000
DTSTAMP:20260423T013138
UID:b6a22f840a00008c16db39013fde46cd
CREATED:20260422T151935
DESCRIPTION:Join us at Morehead State University&apos\;s Spring Fling on A
 pril 30 for free fun\, games\, and food! A perfect study break before fina
 ls!
LAST-MODIFIED:20260422T152121
SEQUENCE:0
STATUS:CONFIRMED
SUMMARY:Spring Fling
TRANSP:OPAQUE
END:VEVENT
END:VCALENDAR
